BEGIN:VCALENDAR
VERSION:2.0
PRODID:-//SF Safety Foundation Ltd - ECPv6.15.0//NONSGML v1.0//EN
CALSCALE:GREGORIAN
METHOD:PUBLISH
X-ORIGINAL-URL:https://safetyfoundation.ca
X-WR-CALDESC:Events for SF Safety Foundation Ltd
REFRESH-INTERVAL;VALUE=DURATION:PT1H
X-Robots-Tag:noindex
X-PUBLISHED-TTL:PT1H
BEGIN:VTIMEZONE
TZID:America/Toronto
BEGIN:DAYLIGHT
TZOFFSETFROM:-0500
TZOFFSETTO:-0400
TZNAME:EDT
DTSTART:20250309T070000
END:DAYLIGHT
BEGIN:STANDARD
TZOFFSETFROM:-0400
TZOFFSETTO:-0500
TZNAME:EST
DTSTART:20251102T060000
END:STANDARD
BEGIN:DAYLIGHT
TZOFFSETFROM:-0500
TZOFFSETTO:-0400
TZNAME:EDT
DTSTART:20260308T070000
END:DAYLIGHT
BEGIN:STANDARD
TZOFFSETFROM:-0400
TZOFFSETTO:-0500
TZNAME:EST
DTSTART:20261101T060000
END:STANDARD
END:VTIMEZONE
BEGIN:VEVENT
DTSTART;TZID=America/Toronto:20260422T100000
DTEND;TZID=America/Toronto:20260422T160000
DTSTAMP:20260423T140314
CREATED:20260319T123804Z
LAST-MODIFIED:20260416T144204Z
UID:36923-1776852000-1776873600@safetyfoundation.ca
SUMMARY:Refresher Working at Height 04/22/2026 10am
DESCRIPTION:
URL:https://safetyfoundation.ca/event/refresher-working-at-height-04-22-2026-10am/
LOCATION:SF Safety Foundation Ltd\, 12 Bradwick Dr\, Unit 7\, Concord\, ON\, L4K 3P6\, Canada
CATEGORIES:Refresher Working at Height Course
ORGANIZER;CN="SF Safety Foundation Ltd":MAILTO:info@safetyfoundation.ca
END:VEVENT
BEGIN:VEVENT
DTSTART;TZID=America/Toronto:20260410T100000
DTEND;TZID=America/Toronto:20260410T160000
DTSTAMP:20260423T140314
CREATED:20260319T123803Z
LAST-MODIFIED:20260319T125004Z
UID:36919-1775815200-1775836800@safetyfoundation.ca
SUMMARY:Refresher Working at Height 04/10/2026 10am
DESCRIPTION:
URL:https://safetyfoundation.ca/event/refresher-working-at-height-04-10-2026-10am/
LOCATION:SF Safety Foundation Ltd\, 12 Bradwick Dr\, Unit 7\, Concord\, ON\, L4K 3P6\, Canada
CATEGORIES:Refresher Working at Height Course
ORGANIZER;CN="SF Safety Foundation Ltd":MAILTO:info@safetyfoundation.ca
END:VEVENT
BEGIN:VEVENT
DTSTART;TZID=America/Toronto:20260407T140000
DTEND;TZID=America/Toronto:20260407T190000
DTSTAMP:20260423T140314
CREATED:20260123T083005Z
LAST-MODIFIED:20260402T143505Z
UID:36596-1775570400-1775588400@safetyfoundation.ca
SUMMARY:Refresher Working at Height in Russian 04/07/2026 2pm
DESCRIPTION:
URL:https://safetyfoundation.ca/event/refresher-working-at-height-04-07-2026-2pm/
LOCATION:SF Safety Foundation Ltd\, 12 Bradwick Dr\, Unit 7\, Concord\, ON\, L4K 3P6\, Canada
CATEGORIES:Refresher Working at Height Course
ORGANIZER;CN="SF Safety Foundation Ltd":MAILTO:info@safetyfoundation.ca
END:VEVENT
BEGIN:VEVENT
DTSTART;TZID=America/Toronto:20260327T100000
DTEND;TZID=America/Toronto:20260327T160000
DTSTAMP:20260423T140314
CREATED:20260217T130536Z
LAST-MODIFIED:20260217T133733Z
UID:36727-1774605600-1774627200@safetyfoundation.ca
SUMMARY:Refresher Working at Height  03/27/2026 10am
DESCRIPTION:
URL:https://safetyfoundation.ca/event/refresher-working-at-height-03-27-2026-10am/
LOCATION:SF Safety Foundation Ltd\, 12 Bradwick Dr\, Unit 7\, Concord\, ON\, L4K 3P6\, Canada
CATEGORIES:Refresher Working at Height Course
ORGANIZER;CN="SF Safety Foundation Ltd":MAILTO:info@safetyfoundation.ca
END:VEVENT
BEGIN:VEVENT
DTSTART;TZID=America/Toronto:20260324T100000
DTEND;TZID=America/Toronto:20260324T160000
DTSTAMP:20260423T140314
CREATED:20260217T130535Z
LAST-MODIFIED:20260319T162256Z
UID:36725-1774346400-1774368000@safetyfoundation.ca
SUMMARY:Refresher Working at Height 03/24/2026 10am
DESCRIPTION:
URL:https://safetyfoundation.ca/event/refresher-working-at-height-03-24-2026-10am/
LOCATION:SF Safety Foundation Ltd\, 12 Bradwick Dr\, Unit 7\, Concord\, ON\, L4K 3P6\, Canada
CATEGORIES:Refresher Working at Height Course
ORGANIZER;CN="SF Safety Foundation Ltd":MAILTO:info@safetyfoundation.ca
END:VEVENT
BEGIN:VEVENT
DTSTART;TZID=America/Toronto:20260314T143000
DTEND;TZID=America/Toronto:20260314T200000
DTSTAMP:20260423T140314
CREATED:20260123T083005Z
LAST-MODIFIED:20260313T103536Z
UID:36598-1773498600-1773518400@safetyfoundation.ca
SUMMARY:Refresher Working at Height 03/14/2026 2:30pm
DESCRIPTION:
URL:https://safetyfoundation.ca/event/refresher-working-at-height-03-14-2026-2-30pm/
LOCATION:SF Safety Foundation Ltd\, 12 Bradwick Dr\, Unit 7\, Concord\, ON\, L4K 3P6\, Canada
CATEGORIES:Refresher Working at Height Course
ORGANIZER;CN="SF Safety Foundation Ltd":MAILTO:info@safetyfoundation.ca
END:VEVENT
BEGIN:VEVENT
DTSTART;TZID=America/Toronto:20260314T100000
DTEND;TZID=America/Toronto:20260314T160000
DTSTAMP:20260423T140314
CREATED:20260217T130535Z
LAST-MODIFIED:20260313T083554Z
UID:36721-1773482400-1773504000@safetyfoundation.ca
SUMMARY:Refresher Working at Height 03/14/2026 10am
DESCRIPTION:
URL:https://safetyfoundation.ca/event/refresher-working-at-height-03-14-2026-10am/
LOCATION:SF Safety Foundation Ltd\, 12 Bradwick Dr\, Unit 7\, Concord\, ON\, L4K 3P6\, Canada
CATEGORIES:Refresher Working at Height Course
ORGANIZER;CN="SF Safety Foundation Ltd":MAILTO:info@safetyfoundation.ca
END:VEVENT
BEGIN:VEVENT
DTSTART;TZID=America/Toronto:20260313T100000
DTEND;TZID=America/Toronto:20260313T160000
DTSTAMP:20260423T140314
CREATED:20260217T130535Z
LAST-MODIFIED:20260217T132655Z
UID:36723-1773396000-1773417600@safetyfoundation.ca
SUMMARY:Refresher Working at Height 03/13/2026 10am
DESCRIPTION:
URL:https://safetyfoundation.ca/event/refresher-working-at-height-03-13-2026-10am/
LOCATION:SF Safety Foundation Ltd\, 12 Bradwick Dr\, Unit 7\, Concord\, ON\, L4K 3P6\, Canada
CATEGORIES:Refresher Working at Height Course
ORGANIZER;CN="SF Safety Foundation Ltd":MAILTO:info@safetyfoundation.ca
END:VEVENT
BEGIN:VEVENT
DTSTART;TZID=America/Toronto:20260227T100000
DTEND;TZID=America/Toronto:20260227T160000
DTSTAMP:20260423T140315
CREATED:20260123T083006Z
LAST-MODIFIED:20260206T134813Z
UID:36602-1772186400-1772208000@safetyfoundation.ca
SUMMARY:Refresher Working at Height  02/27/2026 10am
DESCRIPTION:
URL:https://safetyfoundation.ca/event/refresher-working-at-height-02-27-2026-10am/
LOCATION:SF Safety Foundation Ltd\, 12 Bradwick Dr\, Unit 7\, Concord\, ON\, L4K 3P6\, Canada
CATEGORIES:Refresher Working at Height Course
ORGANIZER;CN="SF Safety Foundation Ltd":MAILTO:info@safetyfoundation.ca
END:VEVENT
BEGIN:VEVENT
DTSTART;TZID=America/Toronto:20260226T143000
DTEND;TZID=America/Toronto:20260226T200000
DTSTAMP:20260423T140315
CREATED:20260123T083006Z
LAST-MODIFIED:20260225T161941Z
UID:36600-1772116200-1772136000@safetyfoundation.ca
SUMMARY:Refresher Working at Height 02/26/2026 2:30pm
DESCRIPTION:
URL:https://safetyfoundation.ca/event/refresher-working-at-height-02-26-2026-230pm/
LOCATION:SF Safety Foundation Ltd\, 12 Bradwick Dr\, Unit 7\, Concord\, ON\, L4K 3P6\, Canada
CATEGORIES:Refresher Working at Height Course
ORGANIZER;CN="SF Safety Foundation Ltd":MAILTO:info@safetyfoundation.ca
END:VEVENT
BEGIN:VEVENT
DTSTART;TZID=America/Toronto:20260123T090000
DTEND;TZID=America/Toronto:20260123T160000
DTSTAMP:20260423T140315
CREATED:20251210T093312Z
LAST-MODIFIED:20251224T083949Z
UID:36444-1769158800-1769184000@safetyfoundation.ca
SUMMARY:Refresher Working at Height  01/23/2026 9am
DESCRIPTION:
URL:https://safetyfoundation.ca/event/refresher-working-at-height-01-23-2026-9am/
LOCATION:SF Safety Foundation Ltd\, 12 Bradwick Dr\, Unit 7\, Concord\, ON\, L4K 3P6\, Canada
CATEGORIES:Refresher Working at Height Course
ORGANIZER;CN="SF Safety Foundation Ltd":MAILTO:info@safetyfoundation.ca
END:VEVENT
BEGIN:VEVENT
DTSTART;TZID=America/Toronto:20260109T090000
DTEND;TZID=America/Toronto:20260109T160000
DTSTAMP:20260423T140315
CREATED:20251210T093311Z
LAST-MODIFIED:20251210T093311Z
UID:36440-1767949200-1767974400@safetyfoundation.ca
SUMMARY:Refresher Working at Height 01/09/2026 9am
DESCRIPTION:
URL:https://safetyfoundation.ca/event/refresher-working-at-height-01-09-2026-9am/
LOCATION:SF Safety Foundation Ltd\, 12 Bradwick Dr\, Unit 7\, Concord\, ON\, L4K 3P6\, Canada
CATEGORIES:Refresher Working at Height Course
ORGANIZER;CN="SF Safety Foundation Ltd":MAILTO:info@safetyfoundation.ca
END:VEVENT
BEGIN:VEVENT
DTSTART;TZID=America/Toronto:20251219T090000
DTEND;TZID=America/Toronto:20251219T160000
DTSTAMP:20260423T140315
CREATED:20251114T095921Z
LAST-MODIFIED:20251114T095921Z
UID:36327-1766134800-1766160000@safetyfoundation.ca
SUMMARY:Refresher Working at Height  12/19/2025 9am
DESCRIPTION:
URL:https://safetyfoundation.ca/event/refresher-working-at-height-12-19-2025-9am/
LOCATION:SF Safety Foundation Ltd\, 12 Bradwick Dr\, Unit 7\, Concord\, ON\, L4K 3P6\, Canada
CATEGORIES:Refresher Working at Height Course
ORGANIZER;CN="SF Safety Foundation Ltd":MAILTO:info@safetyfoundation.ca
END:VEVENT
BEGIN:VEVENT
DTSTART;TZID=America/Toronto:20251212T090000
DTEND;TZID=America/Toronto:20251212T160000
DTSTAMP:20260423T140315
CREATED:20251114T095920Z
LAST-MODIFIED:20251114T095920Z
UID:36325-1765530000-1765555200@safetyfoundation.ca
SUMMARY:Refresher Working at Height 12/12/2025 9am
DESCRIPTION:
URL:https://safetyfoundation.ca/event/refresher-working-at-height-12-12-2025-9am/
LOCATION:SF Safety Foundation Ltd\, 12 Bradwick Dr\, Unit 7\, Concord\, ON\, L4K 3P6\, Canada
CATEGORIES:Refresher Working at Height Course
ORGANIZER;CN="SF Safety Foundation Ltd":MAILTO:info@safetyfoundation.ca
END:VEVENT
BEGIN:VEVENT
DTSTART;TZID=America/Toronto:20251205T090000
DTEND;TZID=America/Toronto:20251205T160000
DTSTAMP:20260423T140315
CREATED:20251114T095920Z
LAST-MODIFIED:20251114T095920Z
UID:36323-1764925200-1764950400@safetyfoundation.ca
SUMMARY:Refresher Working at Height 12/05/2025 9am
DESCRIPTION:
URL:https://safetyfoundation.ca/event/refresher-working-at-height-12-05-2025-9am/
LOCATION:SF Safety Foundation Ltd\, 12 Bradwick Dr\, Unit 7\, Concord\, ON\, L4K 3P6\, Canada
CATEGORIES:Refresher Working at Height Course
ORGANIZER;CN="SF Safety Foundation Ltd":MAILTO:info@safetyfoundation.ca
END:VEVENT
BEGIN:VEVENT
DTSTART;TZID=America/Toronto:20251129T090000
DTEND;TZID=America/Toronto:20251129T160000
DTSTAMP:20260423T140315
CREATED:20251023T132644Z
LAST-MODIFIED:20251124T144923Z
UID:36231-1764406800-1764432000@safetyfoundation.ca
SUMMARY:Refresher Working at Height 11/29/2025 9am
DESCRIPTION:
URL:https://safetyfoundation.ca/event/refresher-working-at-height-11-29-2025-9am/
LOCATION:SF Safety Foundation Ltd\, 12 Bradwick Dr\, Unit 7\, Concord\, ON\, L4K 3P6\, Canada
CATEGORIES:Refresher Working at Height Course
ORGANIZER;CN="SF Safety Foundation Ltd":MAILTO:info@safetyfoundation.ca
END:VEVENT
BEGIN:VEVENT
DTSTART;TZID=America/Toronto:20251128T090000
DTEND;TZID=America/Toronto:20251128T160000
DTSTAMP:20260423T140315
CREATED:20251023T132645Z
LAST-MODIFIED:20251023T142602Z
UID:36237-1764320400-1764345600@safetyfoundation.ca
SUMMARY:Refresher Working at Height  11/28/2025 9am
DESCRIPTION:
URL:https://safetyfoundation.ca/event/refresher-working-at-height-11-28-2025-9am/
LOCATION:SF Safety Foundation Ltd\, 12 Bradwick Dr\, Unit 7\, Concord\, ON\, L4K 3P6\, Canada
CATEGORIES:Refresher Working at Height Course
ORGANIZER;CN="SF Safety Foundation Ltd":MAILTO:info@safetyfoundation.ca
END:VEVENT
BEGIN:VEVENT
DTSTART;TZID=America/Toronto:20251024T090000
DTEND;TZID=America/Toronto:20251024T160000
DTSTAMP:20260423T140315
CREATED:20251001T111020Z
LAST-MODIFIED:20251001T121607Z
UID:36132-1761296400-1761321600@safetyfoundation.ca
SUMMARY:Refresher Working at Height 10/24/2025 9am
DESCRIPTION:
URL:https://safetyfoundation.ca/event/refresher-working-at-height-10-24-2025-9am/
LOCATION:SF Safety Foundation Ltd\, 12 Bradwick Dr\, Unit 7\, Concord\, ON\, L4K 3P6\, Canada
CATEGORIES:Refresher Working at Height Course
ORGANIZER;CN="SF Safety Foundation Ltd":MAILTO:info@safetyfoundation.ca
END:VEVENT
BEGIN:VEVENT
DTSTART;TZID=America/Toronto:20251014T140000
DTEND;TZID=America/Toronto:20251014T200000
DTSTAMP:20260423T140315
CREATED:20250820T134852Z
LAST-MODIFIED:20251009T111855Z
UID:35976-1760450400-1760472000@safetyfoundation.ca
SUMMARY:Refresher Working at Height in Russian 10/14/2025 2pm
DESCRIPTION:
URL:https://safetyfoundation.ca/event/refresher-working-at-height-10-14-2025-2pm/
LOCATION:SF Safety Foundation Ltd\, 12 Bradwick Dr\, Unit 7\, Concord\, ON\, L4K 3P6\, Canada
CATEGORIES:Refresher Working at Height Course
ORGANIZER;CN="SF Safety Foundation Ltd":MAILTO:info@safetyfoundation.ca
END:VEVENT
BEGIN:VEVENT
DTSTART;TZID=America/Toronto:20251010T090000
DTEND;TZID=America/Toronto:20251010T160000
DTSTAMP:20260423T140315
CREATED:20250409T104916Z
LAST-MODIFIED:20250929T121705Z
UID:35257-1760086800-1760112000@safetyfoundation.ca
SUMMARY:Refresher Working at Height 10/10/2025 9am
DESCRIPTION:
URL:https://safetyfoundation.ca/event/refresher-working-at-height-10-10-2025-9am/
LOCATION:SF Safety Foundation Ltd\, 12 Bradwick Dr\, Unit 7\, Concord\, ON\, L4K 3P6\, Canada
CATEGORIES:Refresher Working at Height Course
ORGANIZER;CN="SF Safety Foundation Ltd":MAILTO:info@safetyfoundation.ca
END:VEVENT
BEGIN:VEVENT
DTSTART;TZID=America/Toronto:20251003T090000
DTEND;TZID=America/Toronto:20251003T160000
DTSTAMP:20260423T140315
CREATED:20250409T104916Z
LAST-MODIFIED:20250925T124831Z
UID:35256-1759482000-1759507200@safetyfoundation.ca
SUMMARY:Refresher Working at Height 10/03/2025 9am
DESCRIPTION:
URL:https://safetyfoundation.ca/event/refresher-working-at-height-10-03-2025-9am/
LOCATION:SF Safety Foundation Ltd\, 12 Bradwick Dr\, Unit 7\, Concord\, ON\, L4K 3P6\, Canada
CATEGORIES:Refresher Working at Height Course
ORGANIZER;CN="SF Safety Foundation Ltd":MAILTO:info@safetyfoundation.ca
END:VEVENT
BEGIN:VEVENT
DTSTART;TZID=America/Toronto:20250905T090000
DTEND;TZID=America/Toronto:20250905T160000
DTSTAMP:20260423T140315
CREATED:20250820T120008Z
LAST-MODIFIED:20250820T130531Z
UID:35953-1757062800-1757088000@safetyfoundation.ca
SUMMARY:Refresher Working at Height 09/05/2025 9am
DESCRIPTION:
URL:https://safetyfoundation.ca/event/refresher-working-at-height-09-05-2025-9am/
LOCATION:SF Safety Foundation Ltd\, 12 Bradwick Dr\, Unit 7\, Concord\, ON\, L4K 3P6\, Canada
CATEGORIES:Refresher Working at Height Course
ORGANIZER;CN="SF Safety Foundation Ltd":MAILTO:info@safetyfoundation.ca
END:VEVENT
BEGIN:VEVENT
DTSTART;TZID=America/Toronto:20250829T090000
DTEND;TZID=America/Toronto:20250829T200000
DTSTAMP:20260423T140315
CREATED:20250317T132536Z
LAST-MODIFIED:20250616T123900Z
UID:35090-1756458000-1756497600@safetyfoundation.ca
SUMMARY:Refresher Working at Height 08/29/2025 9am
DESCRIPTION:
URL:https://safetyfoundation.ca/event/refresher-working-at-height-08-29-2025-9am/
LOCATION:SF Safety Foundation Ltd\, 12 Bradwick Dr\, Unit 7\, Concord\, ON\, L4K 3P6\, Canada
CATEGORIES:Refresher Working at Height Course
ORGANIZER;CN="SF Safety Foundation Ltd":MAILTO:info@safetyfoundation.ca
END:VEVENT
BEGIN:VEVENT
DTSTART;TZID=America/Toronto:20250823T090000
DTEND;TZID=America/Toronto:20250823T140000
DTSTAMP:20260423T140315
CREATED:20250317T132536Z
LAST-MODIFIED:20250822T135429Z
UID:35088-1755939600-1755957600@safetyfoundation.ca
SUMMARY:Refresher Working at Height 08/23/2025 9am
DESCRIPTION:
URL:https://safetyfoundation.ca/event/refresher-working-at-height-08-23-2025-9am/
LOCATION:SF Safety Foundation Ltd\, 12 Bradwick Dr\, Unit 7\, Concord\, ON\, L4K 3P6\, Canada
CATEGORIES:Refresher Working at Height Course
ORGANIZER;CN="SF Safety Foundation Ltd":MAILTO:info@safetyfoundation.ca
END:VEVENT
BEGIN:VEVENT
DTSTART;TZID=America/Toronto:20250808T090000
DTEND;TZID=America/Toronto:20250808T140000
DTSTAMP:20260423T140315
CREATED:20250616T113827Z
LAST-MODIFIED:20250616T113827Z
UID:35726-1754643600-1754661600@safetyfoundation.ca
SUMMARY:Refresher Working at Height 08/08/2025 9am
DESCRIPTION:
URL:https://safetyfoundation.ca/event/refresher-working-at-height-08-08-2025-9am/
LOCATION:SF Safety Foundation Ltd\, 12 Bradwick Dr\, Unit 7\, Concord\, ON\, L4K 3P6\, Canada
CATEGORIES:Refresher Working at Height Course
ORGANIZER;CN="SF Safety Foundation Ltd":MAILTO:info@safetyfoundation.ca
END:VEVENT
BEGIN:VEVENT
DTSTART;TZID=America/Toronto:20250718T090000
DTEND;TZID=America/Toronto:20250718T140000
DTSTAMP:20260423T140315
CREATED:20250409T104914Z
LAST-MODIFIED:20250613T133734Z
UID:35254-1752829200-1752847200@safetyfoundation.ca
SUMMARY:Refresher Working at Height 07/18/2025 9am
DESCRIPTION:
URL:https://safetyfoundation.ca/event/refresher-working-at-height-07-18-2025-9am/
LOCATION:SF Safety Foundation Ltd\, 12 Bradwick Dr\, Unit 7\, Concord\, ON\, L4K 3P6\, Canada
CATEGORIES:Refresher Working at Height Course
ORGANIZER;CN="SF Safety Foundation Ltd":MAILTO:info@safetyfoundation.ca
END:VEVENT
BEGIN:VEVENT
DTSTART;TZID=America/Toronto:20250711T090000
DTEND;TZID=America/Toronto:20250711T160000
DTSTAMP:20260423T140315
CREATED:20250409T104914Z
LAST-MODIFIED:20250627T110711Z
UID:35253-1752224400-1752249600@safetyfoundation.ca
SUMMARY:Refresher Working at Height 07/11/2025 9am
DESCRIPTION:
URL:https://safetyfoundation.ca/event/refresher-working-at-height-07-11-2025-9am/
LOCATION:SF Safety Foundation Ltd\, 12 Bradwick Dr\, Unit 7\, Concord\, ON\, L4K 3P6\, Canada
CATEGORIES:Refresher Working at Height Course
ORGANIZER;CN="SF Safety Foundation Ltd":MAILTO:info@safetyfoundation.ca
END:VEVENT
BEGIN:VEVENT
DTSTART;TZID=America/Toronto:20250704T090000
DTEND;TZID=America/Toronto:20250704T160000
DTSTAMP:20260423T140315
CREATED:20250317T132535Z
LAST-MODIFIED:20250627T110539Z
UID:35087-1751619600-1751644800@safetyfoundation.ca
SUMMARY:Refresher Working at Height 07/04/2025 9am
DESCRIPTION:
URL:https://safetyfoundation.ca/event/refresher-working-at-height-07-04-2025-9am/
LOCATION:SF Safety Foundation Ltd\, 12 Bradwick Dr\, Unit 7\, Concord\, ON\, L4K 3P6\, Canada
CATEGORIES:Refresher Working at Height Course
ORGANIZER;CN="SF Safety Foundation Ltd":MAILTO:info@safetyfoundation.ca
END:VEVENT
BEGIN:VEVENT
DTSTART;TZID=America/Toronto:20250606T090000
DTEND;TZID=America/Toronto:20250606T140000
DTSTAMP:20260423T140315
CREATED:20250314T140043Z
LAST-MODIFIED:20250507T095213Z
UID:34770-1749200400-1749218400@safetyfoundation.ca
SUMMARY:Refresher Working at Height 06/06/2025 9am
DESCRIPTION:
URL:https://safetyfoundation.ca/event/refresher-working-at-height-06-06-2025-9am/
LOCATION:SF Safety Foundation Ltd\, 12 Bradwick Dr\, Unit 7\, Concord\, ON\, L4K 3P6\, Canada
CATEGORIES:Refresher Working at Height Course
ORGANIZER;CN="SF Safety Foundation Ltd":MAILTO:info@safetyfoundation.ca
END:VEVENT
BEGIN:VEVENT
DTSTART;TZID=America/Toronto:20250516T090000
DTEND;TZID=America/Toronto:20250516T140000
DTSTAMP:20260423T140315
CREATED:20250409T104916Z
LAST-MODIFIED:20250506T153850Z
UID:35255-1747386000-1747404000@safetyfoundation.ca
SUMMARY:Refresher Working at Height 05/16/2025 9am
DESCRIPTION:
URL:https://safetyfoundation.ca/event/refresher-working-at-height-05-16-2025-9am/
LOCATION:SF Safety Foundation Ltd\, 12 Bradwick Dr\, Unit 7\, Concord\, ON\, L4K 3P6\, Canada
CATEGORIES:Refresher Working at Height Course
ORGANIZER;CN="SF Safety Foundation Ltd":MAILTO:info@safetyfoundation.ca
END:VEVENT
END:VCALENDAR