BEGIN:VCALENDAR
VERSION:2.0
PRODID:-//SF Safety Foundation Ltd - ECPv6.15.0//NONSGML v1.0//EN
CALSCALE:GREGORIAN
METHOD:PUBLISH
X-ORIGINAL-URL:https://safetyfoundation.ca
X-WR-CALDESC:Events for SF Safety Foundation Ltd
REFRESH-INTERVAL;VALUE=DURATION:PT1H
X-Robots-Tag:noindex
X-PUBLISHED-TTL:PT1H
BEGIN:VTIMEZONE
TZID:America/Toronto
BEGIN:DAYLIGHT
TZOFFSETFROM:-0500
TZOFFSETTO:-0400
TZNAME:EDT
DTSTART:20260308T070000
END:DAYLIGHT
BEGIN:STANDARD
TZOFFSETFROM:-0400
TZOFFSETTO:-0500
TZNAME:EST
DTSTART:20261101T060000
END:STANDARD
END:VTIMEZONE
BEGIN:VEVENT
DTSTART;TZID=America/Toronto:20260429T100000
DTEND;TZID=America/Toronto:20260429T160000
DTSTAMP:20260423T121810
CREATED:20260415T095958Z
LAST-MODIFIED:20260422T113508Z
UID:37104-1777456800-1777478400@safetyfoundation.ca
SUMMARY:Working at Height 04/29/2026 10am
DESCRIPTION:
URL:https://safetyfoundation.ca/event/working-at-height-04-29-2026-10am/
LOCATION:SF Safety Foundation Ltd\, 12 Bradwick Dr\, Unit 7\, Concord\, ON\, L4K 3P6\, Canada
CATEGORIES:Working at Height Course
ORGANIZER;CN="SF Safety Foundation Ltd":MAILTO:info@safetyfoundation.ca
END:VEVENT
BEGIN:VEVENT
DTSTART;TZID=America/Toronto:20260515T100000
DTEND;TZID=America/Toronto:20260515T160000
DTSTAMP:20260423T121810
CREATED:20260415T095959Z
LAST-MODIFIED:20260415T102219Z
UID:37108-1778839200-1778860800@safetyfoundation.ca
SUMMARY:Working at Height 05/15/2026 10am
DESCRIPTION:
URL:https://safetyfoundation.ca/event/working-at-height-05-15-2026-10am/
LOCATION:SF Safety Foundation Ltd\, 12 Bradwick Dr\, Unit 7\, Concord\, ON\, L4K 3P6\, Canada
CATEGORIES:Working at Height Course
ORGANIZER;CN="SF Safety Foundation Ltd":MAILTO:info@safetyfoundation.ca
END:VEVENT
BEGIN:VEVENT
DTSTART;TZID=America/Toronto:20260522T100000
DTEND;TZID=America/Toronto:20260522T160000
DTSTAMP:20260423T121810
CREATED:20260415T100000Z
LAST-MODIFIED:20260415T102652Z
UID:37110-1779444000-1779465600@safetyfoundation.ca
SUMMARY:Working at Height 05/22/2026 10am
DESCRIPTION:
URL:https://safetyfoundation.ca/event/working-at-height-05-22-2026-10am/
LOCATION:SF Safety Foundation Ltd\, 12 Bradwick Dr\, Unit 7\, Concord\, ON\, L4K 3P6\, Canada
CATEGORIES:Working at Height Course
ORGANIZER;CN="SF Safety Foundation Ltd":MAILTO:info@safetyfoundation.ca
END:VEVENT
BEGIN:VEVENT
DTSTART;TZID=America/Toronto:20260529T100000
DTEND;TZID=America/Toronto:20260529T160000
DTSTAMP:20260423T121810
CREATED:20260319T123805Z
LAST-MODIFIED:20260415T100946Z
UID:36925-1780048800-1780070400@safetyfoundation.ca
SUMMARY:Working at Height 05/29/2026 10am
DESCRIPTION:
URL:https://safetyfoundation.ca/event/working-at-height-05-29-2026-10am/
LOCATION:SF Safety Foundation Ltd\, 12 Bradwick Dr\, Unit 7\, Concord\, ON\, L4K 3P6\, Canada
CATEGORIES:Working at Height Course
ORGANIZER;CN="SF Safety Foundation Ltd":MAILTO:info@safetyfoundation.ca
END:VEVENT
END:VCALENDAR